BEGIN:VCALENDAR
VERSION:2.0
PRODID:-//Associazione IRIS - ECPv6.15.20//NONSGML v1.0//EN
CALSCALE:GREGORIAN
METHOD:PUBLISH
X-WR-CALNAME:Associazione IRIS
X-ORIGINAL-URL:https://associazione-iris.it
X-WR-CALDESC:Events for Associazione IRIS
REFRESH-INTERVAL;VALUE=DURATION:PT1H
X-Robots-Tag:noindex
X-PUBLISHED-TTL:PT1H
BEGIN:VTIMEZONE
TZID:UTC
BEGIN:STANDARD
TZOFFSETFROM:+0000
TZOFFSETTO:+0000
TZNAME:UTC
DTSTART:20250101T000000
END:STANDARD
END:VTIMEZONE
BEGIN:VEVENT
DTSTART;TZID=UTC:20261019T080000
DTEND;TZID=UTC:20261114T170000
DTSTAMP:20260421T103303
CREATED:20251204T084745Z
LAST-MODIFIED:20251204T084745Z
UID:365-1792396800-1794675600@associazione-iris.it
SUMMARY:Strong & Gentle Exhibition Opens in Cugnoli
DESCRIPTION:The Strong & Gentle – The Faces of Abruzzo exhibition officially opens its doors in Cugnoli\, showcasing portraits and stories that reflect the spirit of inclusion and cultural diversity in the region. The exhibition runs until November 14\, with free entry for all visitors.
URL:https://associazione-iris.it/event/strong-gentle-exhibition-opens-in-cugnoli/
ATTACH;FMTTYPE=image/jpeg:https://associazione-iris.it/wp-content/uploads/2025/10/qtq80-Vdk12X.jpeg
END:VEVENT
END:VCALENDAR